BEGIN:VCALENDAR
VERSION:2.0
PRODID:-//Arts For Health Sarasota - Manatee - ECPv6.15.17.1//NONSGML v1.0//EN
CALSCALE:GREGORIAN
METHOD:PUBLISH
X-WR-CALNAME:Arts For Health Sarasota - Manatee
X-ORIGINAL-URL:https://www.artsforhealthsarasotamanatee.org
X-WR-CALDESC:Events for Arts For Health Sarasota - Manatee
REFRESH-INTERVAL;VALUE=DURATION:PT1H
X-Robots-Tag:noindex
X-PUBLISHED-TTL:PT1H
BEGIN:VTIMEZONE
TZID:America/New_York
BEGIN:DAYLIGHT
TZOFFSETFROM:-0500
TZOFFSETTO:-0400
TZNAME:EDT
DTSTART:20230312T070000
END:DAYLIGHT
BEGIN:STANDARD
TZOFFSETFROM:-0400
TZOFFSETTO:-0500
TZNAME:EST
DTSTART:20231105T060000
END:STANDARD
BEGIN:DAYLIGHT
TZOFFSETFROM:-0500
TZOFFSETTO:-0400
TZNAME:EDT
DTSTART:20240310T070000
END:DAYLIGHT
BEGIN:STANDARD
TZOFFSETFROM:-0400
TZOFFSETTO:-0500
TZNAME:EST
DTSTART:20241103T060000
END:STANDARD
BEGIN:DAYLIGHT
TZOFFSETFROM:-0500
TZOFFSETTO:-0400
TZNAME:EDT
DTSTART:20250309T070000
END:DAYLIGHT
BEGIN:STANDARD
TZOFFSETFROM:-0400
TZOFFSETTO:-0500
TZNAME:EST
DTSTART:20251102T060000
END:STANDARD
END:VTIMEZONE
BEGIN:VEVENT
DTSTART;TZID=America/New_York:20240517T100000
DTEND;TZID=America/New_York:20240517T130000
DTSTAMP:20260422T024702
CREATED:20240508T185039Z
LAST-MODIFIED:20240508T185039Z
UID:9712-1715940000-1715950800@www.artsforhealthsarasotamanatee.org
SUMMARY:In Person Open Studio
DESCRIPTION:Come join us for some fun and creative art-making! Drop in\, relax\, and stay for an hour or the whole time.\nHow it works:\n\n\n\nYou are welcome to bring a project you are working on or start a new one. \nBring your favorite supplies and see what happens!\nJoin us in the creative community and let your inner artist out! 
URL:https://www.artsforhealthsarasotamanatee.org/event/in-person-open-studio/
LOCATION:First Congregrational Church UCC\, 1031 S Euclid Ave\, Sarasota\, FL 34237\, First Congregrational Church UCC\, 1031 S Euclid Ave\, Sarasota\, FL\, 34237\, United States
END:VEVENT
END:VCALENDAR